BEGIN:VCALENDAR
VERSION:2.0
PRODID:Events Booking
BEGIN:VEVENT
UID:69e602ca99080
SUMMARY:Internationaler Tag der zu früh verstorbenen Kinder
DESCRIPTION:
LOCATION:Zug\, 6300 Zug\, Schweiz
DTSTART:20251214T150000Z
DTEND:20251214T160000Z
DTSTAMP:20251002T154012Z
ORGANIZER;CN=Palliativ Zug:MAILTO:info@palliativ-zug.ch
GEO:47.162846;8.518287
X-APPLE-STRUCTURED-LOCATION;VALUE=URI;X-ADDRESS=Zug\, 6300 Zug\, Schweiz;X-
 APPLE-RADIUS=72;X-TITLE=Kirche St. Michael:47.162846;8.518287
END:VEVENT
END:VCALENDAR